Workbook

Sheet Rate Calc 
A1: KENTUCKY DEPARTMENT FOR MEDICAID SERVICES HOSPICE PAYMENT RATES RATE CALCULATION RATES EFFECTIVE 10/01/2026 THROUGH 09/30/2027
H2: SERVICE | I2: ROUTINE | J2: ROUTINE | K2: CONT. | L2: INPATIENT | M2: GENERAL
F3: CBSA | G3: WAGE | H3: INTENSITY | I3: HOME | J3: HOME | K3: HOME | L3: RESPITE | M3: INPATIENT
A4: COUNTY | B4: CO. # | C4: CORE BASED STATISTICAL AREA | F4: CODE | G4: INDEX | H4: ADD ON | I4: CARE 651 | J4: CARE 651 | K4: CARE 652 | L4: CARE 655 | M4: CARE 656
I5: 1-60 DAYS | J5: 61+ days
A6: N/A | B6: N/A | C6: NATIONAL RATE | F6: N/A | G6: N/A | H6: 71.95 | I6: 236.64 | J6: 186.57 | K6: 71.95 | L6: 574.66 | M6: 1231.51
A7: N/A | B7: N/A | C7: WAGE PORTION | F7: N/A | G7: N/A | H7: 54.11 | I7: 156.18 | J7: 123.14 | K7: 54.11 | L7: 350.54 | M7: 782.01
A8: N/A | B8: N/A | C8: NON-WAGE PORTION | F8: N/A | G8: N/A | H8: 17.84 | I8: 80.46 | J8: 63.43 | K8: 17.84 | L8: 224.12 | M8: 449.5
A9: ALLEN | B9: 002 | C9: BOWLING GREEN, KY | F9: =IFERROR(VLOOKUP(B9,'County Summary'!$A$3:$B$122,2,FALSE),"18") -> 14540 | G9: 0.8224 | H9: =$H$7*G9+$H$8 -> 62.340064 | I9: =$I$7*G9+$I$8 -> 208.90243 | J9: =$J$7*G9+$J$8 -> 164.70034 | K9: =$K$7*G9+$K$8 -> 62.340064 | L9: =$L$7*G9+$L$8 -> 512.4041 | M9: =$M$7*G9+$M$8 -> 1092.625
A10: BUTLER | B10: 016 | C10: BOWLING GREEN, KY | F10: =IFERROR(VLOOKUP(B10,'County Summary'!$A$3:$B$122,2,FALSE),"18") -> 14540 | G10: 0.8224 | H10: =$H$7*G10+$H$8 -> 62.340064 | I10: =$I$7*G10+$I$8 -> 208.90243 | J10: =$J$7*G10+$J$8 -> 164.70034 | K10: =$K$7*G10+$K$8 -> 62.340064 | L10: =$L$7*G10+$L$8 -> 512.4041 | M10: =$M$7*G10+$M$8 -> 1092.625
A11: EDMONSON | B11: 031 | C11: BOWLING GREEN, KY | F11: =IFERROR(VLOOKUP(B11,'County Summary'!$A$3:$B$122,2,FALSE),"18") -> 14540 | G11: 0.8224 | H11: =$H$7*G11+$H$8 -> 62.340064 | I11: =$I$7*G11+$I$8 -> 208.90243 | J11: =$J$7*G11+$J$8 -> 164.70034 | K11: =$K$7*G11+$K$8 -> 62.340064 | L11: =$L$7*G11+$L$8 -> 512.4041 | M11: =$M$7*G11+$M$8 -> 1092.625
A12: WARREN | B12: 114 | C12: BOWLING GREEN, KY | F12: =IFERROR(VLOOKUP(B12,'County Summary'!$A$3:$B$122,2,FALSE),"18") -> 14540 | G12: 0.8224 | H12: =$H$7*G12+$H$8 -> 62.340064 | I12: =$I$7*G12+$I$8 -> 208.90243 | J12: =$J$7*G12+$J$8 -> 164.70034 | K12: =$K$7*G12+$K$8 -> 62.340064 | L12: =$L$7*G12+$L$8 -> 512.4041 | M12: =$M$7*G12+$M$8 -> 1092.625
A13: BOONE | B13: 008 | C13: CINCINNATI, OH-KY-IN | F13: =IFERROR(VLOOKUP(B13,'County Summary'!$A$3:$B$122,2,FALSE),"18") -> 17140 | G13: 0.9222 | H13: =$H$7*G13+$H$8 -> 67.740242 | I13: =$I$7*G13+$I$8 -> 224.4892 | J13: =$J$7*G13+$J$8 -> 176.98971 | K13: =$K$7*G13+$K$8 -> 67.740242 | L13: =$L$7*G13+$L$8 -> 547.38799 | M13: =$M$7*G13+$M$8 -> 1170.6696
A14: BRACKEN | B14: 012 | C14: CINCINNATI, OH-KY-IN | F14: =IFERROR(VLOOKUP(B14,'County Summary'!$A$3:$B$122,2,FALSE),"18") -> 17140 | G14: 0.9222 | H14: =$H$7*G14+$H$8 -> 67.740242 | I14: =$I$7*G14+$I$8 -> 224.4892 | J14: =$J$7*G14+$J$8 -> 176.98971 | K14: =$K$7*G14+$K$8 -> 67.740242 | L14: =$L$7*G14+$L$8 -> 547.38799 | M14: =$M$7*G14+$M$8 -> 1170.6696
A15: CAMPBELL | B15: 019 | C15: CINCINNATI, OH-KY-IN | F15: =IFERROR(VLOOKUP(B15,'County Summary'!$A$3:$B$122,2,FALSE),"18") -> 17140 | G15: 0.9222 | H15: =$H$7*G15+$H$8 -> 67.740242 | I15: =$I$7*G15+$I$8 -> 224.4892 | J15: =$J$7*G15+$J$8 -> 176.98971 | K15: =$K$7*G15+$K$8 -> 67.740242 | L15: =$L$7*G15+$L$8 -> 547.38799 | M15: =$M$7*G15+$M$8 -> 1170.6696
A16: GALLATIN | B16: 039 | C16: CINCINNATI, OH-KY-IN | F16: =IFERROR(VLOOKUP(B16,'County Summary'!$A$3:$B$122,2,FALSE),"18") -> 17140 | G16: 0.9222 | H16: =$H$7*G16+$H$8 -> 67.740242 | I16: =$I$7*G16+$I$8 -> 224.4892 | J16: =$J$7*G16+$J$8 -> 176.98971 | K16: =$K$7*G16+$K$8 -> 67.740242 | L16: =$L$7*G16+$L$8 -> 547.38799 | M16: =$M$7*G16+$M$8 -> 1170.6696
A17: GRANT | B17: 041 | C17: CINCINNATI, OH-KY-IN | F17: =IFERROR(VLOOKUP(B17,'County Summary'!$A$3:$B$122,2,FALSE),"18") -> 17140 | G17: 0.9222 | H17: =$H$7*G17+$H$8 -> 67.740242 | I17: =$I$7*G17+$I$8 -> 224.4892 | J17: =$J$7*G17+$J$8 -> 176.98971 | K17: =$K$7*G17+$K$8 -> 67.740242 | L17: =$L$7*G17+$L$8 -> 547.38799 | M17: =$M$7*G17+$M$8 -> 1170.6696
A18: KENTON | B18: 059 | C18: CINCINNATI, OH-KY-IN | F18: =IFERROR(VLOOKUP(B18,'County Summary'!$A$3:$B$122,2,FALSE),"18") -> 17140 | G18: 0.9222 | H18: =$H$7*G18+$H$8 -> 67.740242 | I18: =$I$7*G18+$I$8 -> 224.4892 | J18: =$J$7*G18+$J$8 -> 176.98971 | K18: =$K$7*G18+$K$8 -> 67.740242 | L18: =$L$7*G18+$L$8 -> 547.38799 | M18: =$M$7*G18+$M$8 -> 1170.6696
A19: PENDLETON | B19: 096 | C19: CINCINNATI, OH-KY-IN | F19: =IFERROR(VLOOKUP(B19,'County Summary'!$A$3:$B$122,2,FALSE),"18") -> 17140 | G19: 0.9222 | H19: =$H$7*G19+$H$8 -> 67.740242 | I19: =$I$7*G19+$I$8 -> 224.4892 | J19: =$J$7*G19+$J$8 -> 176.98971 | K19: =$K$7*G19+$K$8 -> 67.740242 | L19: =$L$7*G19+$L$8 -> 547.38799 | M19: =$M$7*G19+$M$8 -> 1170.6696
A20: CHRISTIAN | B20: 024 | C20: CLARKSVILLE, TN-KY | F20: =IFERROR(VLOOKUP(B20,'County Summary'!$A$3:$B$122,2,FALSE),"18") -> 17300 | G20: 0.8 | H20: =$H$7*G20+$H$8 -> 61.128 | I20: =$I$7*G20+$I$8 -> 205.404 | J20: =$J$7*G20+$J$8 -> 161.942 | K20: =$K$7*G20+$K$8 -> 61.128 | L20: =$L$7*G20+$L$8 -> 504.552 | M20: =$M$7*G20+$M$8 -> 1075.108
... A48: ALL OTHER | B48: 999 | C48: NON/URBAN | F48: =IFERROR(VLOOKUP(B48,'County Summary'!$A$3:$B$122,2,FALSE),"18") -> 18 | G48: 0.8145 | H48: =$H$7*G48+$H$8 -> 61.912595 | I48: =$I$7*G48+$I$8 -> 207.66861 | J48: =$J$7*G48+$J$8 -> 163.72753 | K48: =$K$7*G48+$K$8 -> 61.912595 | L48: =$L$7*G48+$L$8 -> 509.63483 | M48: =$M$7*G48+$M$8 -> 1086.4471
E51: FORMULA
A53: Routine Home Care | C53: = | D53: RHC Wage Portion | F53: x | G53: Wage Index | K53: + | L53: RHC Non-wage Portion
A55: Continuous Home Care | C55: = | D55: CHC Wage Portion | F55: x | G55: Wage Index | K55: + | L55: CHC Non-wage Portion
A57: Inpatient Respite Care | C57: = | D57: IRC Wage Portion | F57: x | G57: Wage Index | K57: + | L57: IRC Non-wage Portion
A59: General Inpatient Care | C59: = | D59: GIC Wage Portion | F59: x | G59: Wage Index | K59: + | L59: GIC Non-wage Portion

Sheet Facility Summary
A1: KENTUCKY DEPARTMENT FOR MEDICAID SERVICES HOSPICE PAYMENT RATES PROVIDER SUMMARY RATES EFFECTIVE 10/01/2026 THROUGH 09/30/2027
A2: CO. # | B2: COUNTY | C2: FACILITY NAME | D2: PROVIDER # | E2: CBSA CODE | F2: WAGE INDEX | G2: SERVICE INTENSITY ADD ON | H2: ROUTINE HOME CARE 651 1-60 days | I2: ROUTINE HOME CARE 651 61+ days | J2: CONT. HOME CARE 652 | K2: INPATIENT RESPITE CARE 655 | L2: GENERAL INPATIENT CARE 656
A3: 098 | B3: PIKE | C3: Appalachian Hospice Care Inc | D3: 44098010 | E3: =VLOOKUP(A3,'County Summary'!$A$3:$B$122,2,FALSE) -> 18 | F3: =VLOOKUP(A3,'County Summary'!$A$3:$K$122,5,FALSE) -> 0.8145 | G3: =VLOOKUP(A3,'County Summary'!$A$3:$K$122,6,FALSE) -> 61.912595 | H3: =VLOOKUP(A3,'County Summary'!$A$3:$K$122,7,FALSE) -> 207.66861 | I3: =VLOOKUP(A3,'County Summary'!$A$3:$K$122,8,FALSE) -> 163.72753 | J3: =VLOOKUP(A3,'County Summary'!$A$3:$K$122,9,FALSE) -> 61.912595 | K3: =VLOOKUP(A3,'County Summary'!$A$3:$K$122,10,FALSE) -> 509.63483 | L3: =VLOOKUP(A3,'County Summary'!$A$3:$K$122,11,FALSE) -> 1086.4471
A4: 097 | B4: PERRY | C4: Mountain Community Hospice | D4: 44097020 | E4: =VLOOKUP(A4,'County Summary'!$A$3:$B$122,2,FALSE) -> 18 | F4: =VLOOKUP(A4,'County Summary'!$A$3:$K$122,5,FALSE) -> 0.8145 | G4: =VLOOKUP(A4,'County Summary'!$A$3:$K$122,6,FALSE) -> 61.912595 | H4: =VLOOKUP(A4,'County Summary'!$A$3:$K$122,7,FALSE) -> 207.66861 | I4: =VLOOKUP(A4,'County Summary'!$A$3:$K$122,8,FALSE) -> 163.72753 | J4: =VLOOKUP(A4,'County Summary'!$A$3:$K$122,9,FALSE) -> 61.912595 | K4: =VLOOKUP(A4,'County Summary'!$A$3:$K$122,10,FALSE) -> 509.63483 | L4: =VLOOKUP(A4,'County Summary'!$A$3:$K$122,11,FALSE) -> 1086.4471
A5: 034 | B5: FAYETTE | C5: Bluegrass Care Navigators And DBA Bluegrass Hospice Care | D5: 44034015 | E5: =VLOOKUP(A5,'County Summary'!$A$3:$B$122,2,FALSE) -> 30460 | F5: =VLOOKUP(A5,'County Summary'!$A$3:$K$122,5,FALSE) -> 0.9265 | G5: =VLOOKUP(A5,'County Summary'!$A$3:$K$122,6,FALSE) -> 67.972915 | H5: =VLOOKUP(A5,'County Summary'!$A$3:$K$122,7,FALSE) -> 225.16077 | I5: =VLOOKUP(A5,'County Summary'!$A$3:$K$122,8,FALSE) -> 177.51921 | J5: =VLOOKUP(A5,'County Summary'!$A$3:$K$122,9,FALSE) -> 67.972915 | K5: =VLOOKUP(A5,'County Summary'!$A$3:$K$122,10,FALSE) -> 548.89531 | L5: =VLOOKUP(A5,'County Summary'!$A$3:$K$122,11,FALSE) -> 1174.0323
A6: 010 | B6: BOYD | C6: Community Hospice | D6: 44010015 | E6: =VLOOKUP(A6,'County Summary'!$A$3:$B$122,2,FALSE) -> 26580 | F6: =VLOOKUP(A6,'County Summary'!$A$3:$K$122,5,FALSE) -> 0.8612 | G6: =VLOOKUP(A6,'County Summary'!$A$3:$K$122,6,FALSE) -> 64.439532 | H6: =VLOOKUP(A6,'County Summary'!$A$3:$K$122,7,FALSE) -> 214.96222 | I6: =VLOOKUP(A6,'County Summary'!$A$3:$K$122,8,FALSE) -> 169.47817 | J6: =VLOOKUP(A6,'County Summary'!$A$3:$K$122,9,FALSE) -> 64.439532 | K6: =VLOOKUP(A6,'County Summary'!$A$3:$K$122,10,FALSE) -> 526.00505 | L6: =VLOOKUP(A6,'County Summary'!$A$3:$K$122,11,FALSE) -> 1122.967
A7: 011 | B7: BOYLE | C7: Heritage Hospice Inc. | D7: 44011013 | E7: =VLOOKUP(A7,'County Summary'!$A$3:$B$122,2,FALSE) -> 18 | F7: =VLOOKUP(A7,'County Summary'!$A$3:$K$122,5,FALSE) -> 0.8145 | G7: =VLOOKUP(A7,'County Summary'!$A$3:$K$122,6,FALSE) -> 61.912595 | H7: =VLOOKUP(A7,'County Summary'!$A$3:$K$122,7,FALSE) -> 207.66861 | I7: =VLOOKUP(A7,'County Summary'!$A$3:$K$122,8,FALSE) -> 163.72753 | J7: =VLOOKUP(A7,'County Summary'!$A$3:$K$122,9,FALSE) -> 61.912595 | K7: =VLOOKUP(A7,'County Summary'!$A$3:$K$122,10,FALSE) -> 509.63483 | L7: =VLOOKUP(A7,'County Summary'!$A$3:$K$122,11,FALSE) -> 1086.4471
A8: 054 | B8: HOPKINS | C8: Hosparus Western Kentucky | D8: 7100992540 | E8: =VLOOKUP(A8,'County Summary'!$A$3:$B$122,2,FALSE) -> 18 | F8: =VLOOKUP(A8,'County Summary'!$A$3:$K$122,5,FALSE) -> 0.8145 | G8: =VLOOKUP(A8,'County Summary'!$A$3:$K$122,6,FALSE) -> 61.912595 | H8: =VLOOKUP(A8,'County Summary'!$A$3:$K$122,7,FALSE) -> 207.66861 | I8: =VLOOKUP(A8,'County Summary'!$A$3:$K$122,8,FALSE) -> 163.72753 | J8: =VLOOKUP(A8,'County Summary'!$A$3:$K$122,9,FALSE) -> 61.912595 | K8: =VLOOKUP(A8,'County Summary'!$A$3:$K$122,10,FALSE) -> 509.63483 | L8: =VLOOKUP(A8,'County Summary'!$A$3:$K$122,11,FALSE) -> 1086.4471
A9: 056 | B9: JEFFERSON | C9: Hosparus Health | D9: 44056018 | E9: =VLOOKUP(A9,'County Summary'!$A$3:$B$122,2,FALSE) -> 31140 | F9: =VLOOKUP(A9,'County Summary'!$A$3:$K$122,5,FALSE) -> 0.9327 | G9: =VLOOKUP(A9,'County Summary'!$A$3:$K$122,6,FALSE) -> 68.308397 | H9: =VLOOKUP(A9,'County Summary'!$A$3:$K$122,7,FALSE) -> 226.12909 | I9: =VLOOKUP(A9,'County Summary'!$A$3:$K$122,8,FALSE) -> 178.28268 | J9: =VLOOKUP(A9,'County Summary'!$A$3:$K$122,9,FALSE) -> 68.308397 | K9: =VLOOKUP(A9,'County Summary'!$A$3:$K$122,10,FALSE) -> 551.06866 | L9: =VLOOKUP(A9,'County Summary'!$A$3:$K$122,11,FALSE) -> 1178.8807
A10: 076 | B10: MADISON | C10: Compassionate Care Plus | D10: 44076016 | E10: =VLOOKUP(A10,'County Summary'!$A$3:$B$122,2,FALSE) -> 18 | F10: =VLOOKUP(A10,'County Summary'!$A$3:$K$122,5,FALSE) -> 0.8145 | G10: =VLOOKUP(A10,'County Summary'!$A$3:$K$122,6,FALSE) -> 61.912595 | H10: =VLOOKUP(A10,'County Summary'!$A$3:$K$122,7,FALSE) -> 207.66861 | I10: =VLOOKUP(A10,'County Summary'!$A$3:$K$122,8,FALSE) -> 163.72753 | J10: =VLOOKUP(A10,'County Summary'!$A$3:$K$122,9,FALSE) -> 61.912595 | K10: =VLOOKUP(A10,'County Summary'!$A$3:$K$122,10,FALSE) -> 509.63483 | L10: =VLOOKUP(A10,'County Summary'!$A$3:$K$122,11,FALSE) -> 1086.4471
A11: 025 | B11: CLARK | C11: Hospice East | D11: 44025013 | E11: =VLOOKUP(A11,'County Summary'!$A$3:$B$122,2,FALSE) -> 30460 | F11: =VLOOKUP(A11,'County Summary'!$A$3:$K$122,5,FALSE) -> 0.9265 | G11: =VLOOKUP(A11,'County Summary'!$A$3:$K$122,6,FALSE) -> 67.972915 | H11: =VLOOKUP(A11,'County Summary'!$A$3:$K$122,7,FALSE) -> 225.16077 | I11: =VLOOKUP(A11,'County Summary'!$A$3:$K$122,8,FALSE) -> 177.51921 | J11: =VLOOKUP(A11,'County Summary'!$A$3:$K$122,9,FALSE) -> 67.972915 | K11: =VLOOKUP(A11,'County Summary'!$A$3:$K$122,10,FALSE) -> 548.89531 | L11: =VLOOKUP(A11,'County Summary'!$A$3:$K$122,11,FALSE) -> 1174.0323
A12: 081 | B12: MASON | C12: Hospice of Hope, Inc | D12: 44081016 | E12: =VLOOKUP(A12,'County Summary'!$A$3:$B$122,2,FALSE) -> 18 | F12: =VLOOKUP(A12,'County Summary'!$A$3:$K$122,5,FALSE) -> 0.8145 | G12: =VLOOKUP(A12,'County Summary'!$A$3:$K$122,6,FALSE) -> 61.912595 | H12: =VLOOKUP(A12,'County Summary'!$A$3:$K$122,7,FALSE) -> 207.66861 | I12: =VLOOKUP(A12,'County Summary'!$A$3:$K$122,8,FALSE) -> 163.72753 | J12: =VLOOKUP(A12,'County Summary'!$A$3:$K$122,9,FALSE) -> 61.912595 | K12: =VLOOKUP(A12,'County Summary'!$A$3:$K$122,10,FALSE) -> 509.63483 | L12: =VLOOKUP(A12,'County Summary'!$A$3:$K$122,11,FALSE) -> 1086.4471
A13: 100 | B13: PULASKI | C13: Hospice of Lake Cumberland | D13: 44100014 | E13: =VLOOKUP(A13,'County Summary'!$A$3:$B$122,2,FALSE) -> 18 | F13: =VLOOKUP(A13,'County Summary'!$A$3:$K$122,5,FALSE) -> 0.8145 | G13: =VLOOKUP(A13,'County Summary'!$A$3:$K$122,6,FALSE) -> 61.912595 | H13: =VLOOKUP(A13,'County Summary'!$A$3:$K$122,7,FALSE) -> 207.66861 | I13: =VLOOKUP(A13,'County Summary'!$A$3:$K$122,8,FALSE) -> 163.72753 | J13: =VLOOKUP(A13,'County Summary'!$A$3:$K$122,9,FALSE) -> 61.912595 | K13: =VLOOKUP(A13,'County Summary'!$A$3:$K$122,10,FALSE) -> 509.63483 | L13: =VLOOKUP(A13,'County Summary'!$A$3:$K$122,11,FALSE) -> 1086.4471
A14: 092 | B14: OHIO | C14: Hospice of Ohio County | D14: 44092013 | E14: =VLOOKUP(A14,'County Summary'!$A$3:$B$122,2,FALSE) -> 18 | F14: =VLOOKUP(A14,'County Summary'!$A$3:$K$122,5,FALSE) -> 0.8145 | G14: =VLOOKUP(A14,'County Summary'!$A$3:$K$122,6,FALSE) -> 61.912595 | H14: =VLOOKUP(A14,'County Summary'!$A$3:$K$122,7,FALSE) -> 207.66861 | I14: =VLOOKUP(A14,'County Summary'!$A$3:$K$122,8,FALSE) -> 163.72753 | J14: =VLOOKUP(A14,'County Summary'!$A$3:$K$122,9,FALSE) -> 61.912595 | K14: =VLOOKUP(A14,'County Summary'!$A$3:$K$122,10,FALSE) -> 509.63483 | L14: =VLOOKUP(A14,'County Summary'!$A$3:$K$122,11,FALSE) -> 1086.4471
... A26: 063 | B26: LAUREL | C26: VNA Health at Home 1 | D26: 7100196040 | E26: =VLOOKUP(A26,'County Summary'!$A$3:$B$122,2,FALSE) -> 18 | F26: =VLOOKUP(A26,'County Summary'!$A$3:$K$122,5,FALSE) -> 0.8145 | G26: =VLOOKUP(A26,'County Summary'!$A$3:$K$122,6,FALSE) -> 61.912595 | H26: =VLOOKUP(A26,'County Summary'!$A$3:$K$122,7,FALSE) -> 207.66861 | I26: =VLOOKUP(A26,'County Summary'!$A$3:$K$122,8,FALSE) -> 163.72753 | J26: =VLOOKUP(A26,'County Summary'!$A$3:$K$122,9,FALSE) -> 61.912595 | K26: =VLOOKUP(A26,'County Summary'!$A$3:$K$122,10,FALSE) -> 509.63483 | L26: =VLOOKUP(A26,'County Summary'!$A$3:$K$122,11,FALSE) -> 1086.4471

Sheet Sheet1
A1: CDE_COUNTY | B1: DSC_COUNTY | C1: REGION
A2: 001 | B2: Adair | C2: 4
A3: 002 | B3: Allen | C3: 4
A4: 003 | B4: Anderson | C4: 5
A5: 004 | B5: Ballard | C5: 1
A6: 005 | B6: Barren | C6: 4
A7: 006 | B7: Bath | C7: 7
A8: 007 | B8: Bell | C8: 8
A9: 008 | B9: Boone | C9: 6
A10: 009 | B10: Bourbon | C10: 5
A11: 010 | B11: Boyd | C11: 7
A12: 011 | B12: Boyle | C12: 5
A13: 012 | B13: Bracken | C13: 7
... A123: 200 | B123: Out of State | C123: 0

Sheet Sheet2
A1: Medicare Hospice FY2014 Final Wage Index
A2: Urban CBSAs
A4: CBSA | B4: Urban1 | D4: Wage Index2
A5: 10180 | B5: Abilene | C5: TX | D5: 0.8478
A6: 10380 | B6: Aguadilla-Isabela-San Sebastián | C6: PR | D6: 0.4062
A7: 10420 | B7: Akron | C7: OH | D7: 0.889
A8: 10500 | B8: Albany | C8: GA | D8: 0.8591
A9: 10580 | B9: Albany-Schenectady-Troy | C9: NY | D9: 0.8807
A10: 10740 | B10: Albuquerque | C10: NM | D10: 0.9718
A11: 10780 | B11: Alexandria | C11: LA | D11: 0.8002
A12: 10900 | B12: Allentown-Bethlehem-Easton | C12: PA-NJ | D12: 0.9252
A13: 11020 | B13: Altoona | C13: PA | D13: 0.9062
A14: 11100 | B14: Amarillo | C14: TX | D14: 0.8663
A15: 11180 | B15: Ames | C15: IA | D15: 0.9772
A16: 11260 | B16: Anchorage | C16: AK | D16: 1.2371
... A380: 48300 | B380: Wenatchee-East Wenatchee | C380: WA | D380: 1.0222
A381: 48424 | B381: West Palm Beach-Boca Raton-Boynton Beac | D381: 0.9839
A382: 48540 | B382: Wheeling | C382: WV-OH | D382: 0.7892
A383: 48620 | B383: Wichita | C383: KS | D383: 0.8841
A384: 48660 | B384: Wichita Falls | C384: TX | D384: 0.9215
A385: 48700 | B385: Williamsport | C385: PA | D385: 0.8382
A386: 48864 | B386: Wilmington | C386: DE-MD-NJ | D386: 1.0884
A387: 48900 | B387: Wilmington | C387: NC | D387: 0.9324
A388: 49020 | B388: Winchester | C388: VA-WV | D388: 0.942
A389: 49180 | B389: Winston-Salem | C389: NC | D389: 0.882
A390: 49340 | B390: Worcester | C390: MA | D390: 1.1412
A391: 49420 | B391: Yakima | C391: WA | D391: 1.0283
A392: 49500 | B392: Yauco | C392: PR | D392: 0.4668
A393: 49620 | B393: York-Hanover | C393: PA | D393: 0.9733
... A396: 49740 | B396: Yuma | C396: AZ | D396: 0.9693
A398: 1This column lists each CBSA area name.
A399: 2Wage index values are based on FY 2009 hospital cost report data before reclassification.
A400: These data form the basis for the pre-floor, pre-reclassified hospital wage index.
A401: The budget neutrality adjustment factor (BNAF) or the hospice floor is then applied to
A402: the pre-floor, pre-reclassified hospital wage index to derive the hospice wage index.
A403: Wage index values greater than or equal to 0.8 are subject to a BNAF. The hospice
A404: floor calculation is as follows: wage index values below 0.8 are adjusted to be the greater
A405: of a) the pre-floor, pre-reclassified hospital wage index value adjusted by
A406: the 70 percent reduced BNAF OR b) the minimum of the pre-floor, pre-reclassified
A407: hospital wage index value x 1.15, or 0.8000. For the FY 2014 hospice wage index, the
...

Sheet County Summary
A1: KENTUCKY DEPARTMENT FOR MEDICAID SERVICES HOSPICE PAYMENT RATES COUNTY SUMMARY RATES EFFECTIVE 10/01/2026 THROUGH 09/30/2027
A2: CO# | B2: CBSA CODE | C2: COUNTY | D2: URBAN/ RURAL | E2: WAGE INDEX | F2: SERVICE INTENSITY ADD ON | G2: ROUTINE HOME CARE 651 1-60 DAYS | H2: ROUTINE HOME CARE 651 61+ DAYS | I2: HOURLY CONT. HOME CARE 652* | J2: INPATIENT RESPITE CARE 655 | K2: GENERAL INPATIENT CARE 656
A3: 001 | B3: 18 | C3: Adair | D3: Rural | E3: =VLOOKUP(B3,'Rate Calc '!$F$9:$M$48,2,FALSE) -> 0.8145 | F3: =VLOOKUP(B3,'Rate Calc '!$F$9:$M$48,3,FALSE) -> 61.912595 | G3: =VLOOKUP(B3,'Rate Calc '!$F$9:$M$48,4,FALSE) -> 207.66861 | H3: =VLOOKUP(B3,'Rate Calc '!$F$9:$M$48,5,FALSE) -> 163.72753 | I3: =VLOOKUP(B3,'Rate Calc '!$F$9:$M$48,6,FALSE) -> 61.912595 | J3: =VLOOKUP(B3,'Rate Calc '!$F$9:$M$48,7,FALSE) -> 509.63483 | K3: =VLOOKUP(B3,'Rate Calc '!$F$9:$M$48,8,FALSE) -> 1086.4471
A4: 002 | B4: 14540 | C4: Allen | D4: Urban | E4: =VLOOKUP(B4,'Rate Calc '!$F$9:$M$48,2,FALSE) -> 0.8224 | F4: =VLOOKUP(B4,'Rate Calc '!$F$9:$M$48,3,FALSE) -> 62.340064 | G4: =VLOOKUP(B4,'Rate Calc '!$F$9:$M$48,4,FALSE) -> 208.90243 | H4: =VLOOKUP(B4,'Rate Calc '!$F$9:$M$48,5,FALSE) -> 164.70034 | I4: =VLOOKUP(B4,'Rate Calc '!$F$9:$M$48,6,FALSE) -> 62.340064 | J4: =VLOOKUP(B4,'Rate Calc '!$F$9:$M$48,7,FALSE) -> 512.4041 | K4: =VLOOKUP(B4,'Rate Calc '!$F$9:$M$48,8,FALSE) -> 1092.625
A5: 003 | B5: 18 | C5: Anderson | D5: Rural | E5: =VLOOKUP(B5,'Rate Calc '!$F$9:$M$48,2,FALSE) -> 0.8145 | F5: =VLOOKUP(B5,'Rate Calc '!$F$9:$M$48,3,FALSE) -> 61.912595 | G5: =VLOOKUP(B5,'Rate Calc '!$F$9:$M$48,4,FALSE) -> 207.66861 | H5: =VLOOKUP(B5,'Rate Calc '!$F$9:$M$48,5,FALSE) -> 163.72753 | I5: =VLOOKUP(B5,'Rate Calc '!$F$9:$M$48,6,FALSE) -> 61.912595 | J5: =VLOOKUP(B5,'Rate Calc '!$F$9:$M$48,7,FALSE) -> 509.63483 | K5: =VLOOKUP(B5,'Rate Calc '!$F$9:$M$48,8,FALSE) -> 1086.4471
A6: 004 | B6: 37140 | C6: Ballard | D6: Urban | E6: =VLOOKUP(B6,'Rate Calc '!$F$9:$M$48,2,FALSE) -> 0.8782 | F6: =VLOOKUP(B6,'Rate Calc '!$F$9:$M$48,3,FALSE) -> 65.359402 | G6: =VLOOKUP(B6,'Rate Calc '!$F$9:$M$48,4,FALSE) -> 217.61728 | H6: =VLOOKUP(B6,'Rate Calc '!$F$9:$M$48,5,FALSE) -> 171.57155 | I6: =VLOOKUP(B6,'Rate Calc '!$F$9:$M$48,6,FALSE) -> 65.359402 | J6: =VLOOKUP(B6,'Rate Calc '!$F$9:$M$48,7,FALSE) -> 531.96423 | K6: =VLOOKUP(B6,'Rate Calc '!$F$9:$M$48,8,FALSE) -> 1136.2612
A7: 005 | B7: 18 | C7: Barren | D7: Rural | E7: =VLOOKUP(B7,'Rate Calc '!$F$9:$M$48,2,FALSE) -> 0.8145 | F7: =VLOOKUP(B7,'Rate Calc '!$F$9:$M$48,3,FALSE) -> 61.912595 | G7: =VLOOKUP(B7,'Rate Calc '!$F$9:$M$48,4,FALSE) -> 207.66861 | H7: =VLOOKUP(B7,'Rate Calc '!$F$9:$M$48,5,FALSE) -> 163.72753 | I7: =VLOOKUP(B7,'Rate Calc '!$F$9:$M$48,6,FALSE) -> 61.912595 | J7: =VLOOKUP(B7,'Rate Calc '!$F$9:$M$48,7,FALSE) -> 509.63483 | K7: =VLOOKUP(B7,'Rate Calc '!$F$9:$M$48,8,FALSE) -> 1086.4471
A8: 006 | B8: 18 | C8: Bath | D8: Rural | E8: =VLOOKUP(B8,'Rate Calc '!$F$9:$M$48,2,FALSE) -> 0.8145 | F8: =VLOOKUP(B8,'Rate Calc '!$F$9:$M$48,3,FALSE) -> 61.912595 | G8: =VLOOKUP(B8,'Rate Calc '!$F$9:$M$48,4,FALSE) -> 207.66861 | H8: =VLOOKUP(B8,'Rate Calc '!$F$9:$M$48,5,FALSE) -> 163.72753 | I8: =VLOOKUP(B8,'Rate Calc '!$F$9:$M$48,6,FALSE) -> 61.912595 | J8: =VLOOKUP(B8,'Rate Calc '!$F$9:$M$48,7,FALSE) -> 509.63483 | K8: =VLOOKUP(B8,'Rate Calc '!$F$9:$M$48,8,FALSE) -> 1086.4471
A9: 007 | B9: 18 | C9: Bell | D9: Rural | E9: =VLOOKUP(B9,'Rate Calc '!$F$9:$M$48,2,FALSE) -> 0.8145 | F9: =VLOOKUP(B9,'Rate Calc '!$F$9:$M$48,3,FALSE) -> 61.912595 | G9: =VLOOKUP(B9,'Rate Calc '!$F$9:$M$48,4,FALSE) -> 207.66861 | H9: =VLOOKUP(B9,'Rate Calc '!$F$9:$M$48,5,FALSE) -> 163.72753 | I9: =VLOOKUP(B9,'Rate Calc '!$F$9:$M$48,6,FALSE) -> 61.912595 | J9: =VLOOKUP(B9,'Rate Calc '!$F$9:$M$48,7,FALSE) -> 509.63483 | K9: =VLOOKUP(B9,'Rate Calc '!$F$9:$M$48,8,FALSE) -> 1086.4471
A10: 008 | B10: 17140 | C10: Boone | D10: Urban | E10: =VLOOKUP(B10,'Rate Calc '!$F$9:$M$48,2,FALSE) -> 0.9222 | F10: =VLOOKUP(B10,'Rate Calc '!$F$9:$M$48,3,FALSE) -> 67.740242 | G10: =VLOOKUP(B10,'Rate Calc '!$F$9:$M$48,4,FALSE) -> 224.4892 | H10: =VLOOKUP(B10,'Rate Calc '!$F$9:$M$48,5,FALSE) -> 176.98971 | I10: =VLOOKUP(B10,'Rate Calc '!$F$9:$M$48,6,FALSE) -> 67.740242 | J10: =VLOOKUP(B10,'Rate Calc '!$F$9:$M$48,7,FALSE) -> 547.38799 | K10: =VLOOKUP(B10,'Rate Calc '!$F$9:$M$48,8,FALSE) -> 1170.6696
A11: 009 | B11: 30460 | C11: Bourbon | D11: Urban | E11: =VLOOKUP(B11,'Rate Calc '!$F$9:$M$48,2,FALSE) -> 0.9265 | F11: =VLOOKUP(B11,'Rate Calc '!$F$9:$M$48,3,FALSE) -> 67.972915 | G11: =VLOOKUP(B11,'Rate Calc '!$F$9:$M$48,4,FALSE) -> 225.16077 | H11: =VLOOKUP(B11,'Rate Calc '!$F$9:$M$48,5,FALSE) -> 177.51921 | I11: =VLOOKUP(B11,'Rate Calc '!$F$9:$M$48,6,FALSE) -> 67.972915 | J11: =VLOOKUP(B11,'Rate Calc '!$F$9:$M$48,7,FALSE) -> 548.89531 | K11: =VLOOKUP(B11,'Rate Calc '!$F$9:$M$48,8,FALSE) -> 1174.0323
A12: 010 | B12: 26580 | C12: Boyd | D12: Urban | E12: =VLOOKUP(B12,'Rate Calc '!$F$9:$M$48,2,FALSE) -> 0.8612 | F12: =VLOOKUP(B12,'Rate Calc '!$F$9:$M$48,3,FALSE) -> 64.439532 | G12: =VLOOKUP(B12,'Rate Calc '!$F$9:$M$48,4,FALSE) -> 214.96222 | H12: =VLOOKUP(B12,'Rate Calc '!$F$9:$M$48,5,FALSE) -> 169.47817 | I12: =VLOOKUP(B12,'Rate Calc '!$F$9:$M$48,6,FALSE) -> 64.439532 | J12: =VLOOKUP(B12,'Rate Calc '!$F$9:$M$48,7,FALSE) -> 526.00505 | K12: =VLOOKUP(B12,'Rate Calc '!$F$9:$M$48,8,FALSE) -> 1122.967
A13: 011 | B13: 18 | C13: Boyle | D13: Rural | E13: =VLOOKUP(B13,'Rate Calc '!$F$9:$M$48,2,FALSE) -> 0.8145 | F13: =VLOOKUP(B13,'Rate Calc '!$F$9:$M$48,3,FALSE) -> 61.912595 | G13: =VLOOKUP(B13,'Rate Calc '!$F$9:$M$48,4,FALSE) -> 207.66861 | H13: =VLOOKUP(B13,'Rate Calc '!$F$9:$M$48,5,FALSE) -> 163.72753 | I13: =VLOOKUP(B13,'Rate Calc '!$F$9:$M$48,6,FALSE) -> 61.912595 | J13: =VLOOKUP(B13,'Rate Calc '!$F$9:$M$48,7,FALSE) -> 509.63483 | K13: =VLOOKUP(B13,'Rate Calc '!$F$9:$M$48,8,FALSE) -> 1086.4471
A14: 012 | B14: 17140 | C14: Bracken | D14: Urban | E14: =VLOOKUP(B14,'Rate Calc '!$F$9:$M$48,2,FALSE) -> 0.9222 | F14: =VLOOKUP(B14,'Rate Calc '!$F$9:$M$48,3,FALSE) -> 67.740242 | G14: =VLOOKUP(B14,'Rate Calc '!$F$9:$M$48,4,FALSE) -> 224.4892 | H14: =VLOOKUP(B14,'Rate Calc '!$F$9:$M$48,5,FALSE) -> 176.98971 | I14: =VLOOKUP(B14,'Rate Calc '!$F$9:$M$48,6,FALSE) -> 67.740242 | J14: =VLOOKUP(B14,'Rate Calc '!$F$9:$M$48,7,FALSE) -> 547.38799 | K14: =VLOOKUP(B14,'Rate Calc '!$F$9:$M$48,8,FALSE) -> 1170.6696
... A122: 120 | B122: 30460 | C122: Woodford | D122: Urban | E122: =VLOOKUP(B122,'Rate Calc '!$F$9:$M$48,2,FALSE) -> 0.9265 | F122: =VLOOKUP(B122,'Rate Calc '!$F$9:$M$48,3,FALSE) -> 67.972915 | G122: =VLOOKUP(B122,'Rate Calc '!$F$9:$M$48,4,FALSE) -> 225.16077 | H122: =VLOOKUP(B122,'Rate Calc '!$F$9:$M$48,5,FALSE) -> 177.51921 | I122: =VLOOKUP(B122,'Rate Calc '!$F$9:$M$48,6,FALSE) -> 67.972915 | J122: =VLOOKUP(B122,'Rate Calc '!$F$9:$M$48,7,FALSE) -> 548.89531 | K122: =VLOOKUP(B122,'Rate Calc '!$F$9:$M$48,8,FALSE) -> 1174.0323
A124: * Continuous Home Care Services are Billed Hourly
